BEGIN:VCALENDAR
VERSION:2.0
PRODID:-//hacksw/handcal//NONSGML v1.0//EN
BEGIN:VEVENT
UID:NETAPP441
DTSTAMP;TzID=America/Chicago:20260421T032457
DTSTART;TzID=America/Chicago:20251118T180000
DTEND;TzID=America/Chicago:20251118T200000
SUMMARY:2025 A.W.A.R.E Social Event
DESCRIPTION:.
END:VEVENT
END:VCALENDAR